BEGIN:VCALENDAR
VERSION:2.0
PRODID:-//Section E18 - ECPv6.15.15//NONSGML v1.0//EN
CALSCALE:GREGORIAN
METHOD:PUBLISH
X-WR-CALNAME:Section E18
X-ORIGINAL-URL:https://e18.oa-scouting.org
X-WR-CALDESC:Events for Section E18
REFRESH-INTERVAL;VALUE=DURATION:PT1H
X-Robots-Tag:noindex
X-PUBLISHED-TTL:PT1H
BEGIN:VTIMEZONE
TZID:America/New_York
BEGIN:DAYLIGHT
TZOFFSETFROM:-0500
TZOFFSETTO:-0400
TZNAME:EDT
DTSTART:20240310T070000
END:DAYLIGHT
BEGIN:STANDARD
TZOFFSETFROM:-0400
TZOFFSETTO:-0500
TZNAME:EST
DTSTART:20241103T060000
END:STANDARD
BEGIN:DAYLIGHT
TZOFFSETFROM:-0500
TZOFFSETTO:-0400
TZNAME:EDT
DTSTART:20250309T070000
END:DAYLIGHT
BEGIN:STANDARD
TZOFFSETFROM:-0400
TZOFFSETTO:-0500
TZNAME:EST
DTSTART:20251102T060000
END:STANDARD
BEGIN:DAYLIGHT
TZOFFSETFROM:-0500
TZOFFSETTO:-0400
TZNAME:EDT
DTSTART:20260308T070000
END:DAYLIGHT
BEGIN:STANDARD
TZOFFSETFROM:-0400
TZOFFSETTO:-0500
TZNAME:EST
DTSTART:20261101T060000
END:STANDARD
END:VTIMEZONE
BEGIN:VEVENT
DTSTART;TZID=America/New_York:20251205T183000
DTEND;TZID=America/New_York:20251207T130000
DTSTAMP:20260421T075632
CREATED:20251031T223626Z
LAST-MODIFIED:20251101T005458Z
UID:909-1764959400-1765112400@e18.oa-scouting.org
SUMMARY:Section Winter Fellowship & Training (SWFT)
DESCRIPTION:Join us for a summer themed training event and Conclave planning COC. Enjoy fellowship with members of Section E18 and learn more about a myriad of topics.
URL:https://e18.oa-scouting.org/oa-event/section-winter-fellowship-training-swft/
LOCATION:Alpine Scout Camp\, 441 US-9W\, Alpine\, NJ\, 07620\, United States
CATEGORIES:Training
END:VEVENT
END:VCALENDAR